Workbook

Sheet Self-assessment
B1: Test "Self-Assessment"
B2: Filling instructions
B3: For each behavior and thinking pattern, put a number from 1 to 5, depending on how often this behavior or thought occurs:
B4: 1 - Completely wrong
B5: 2 - Very often wrong
B6: 3 - True half the time
B7: 4 - Very often true
B8: 5 - Always true
A9: № | B9: Questions | C9: Assessment before | D9: Assessment after
B10: Block 1: Physical health | C10: =SUM(C11:C20)/10 -> 0 | D10: =SUM(D11:D20)/10 -> 0
A11: 1 | B11: I look great and am happy with my appearance.
A12: 2 | B12: I am full of strength, inspiration, energy, interest of life.
A13: 3 | B13: I am healthy, I feel great, I do not have chronic diseases.
A14: 4 | B14: I follow a healthy diet, my weight is normal.
A15: 5 | B15: I have a healthy sleep, I do not suffer from insomnia.
A16: 6 | B16: I do regular exercise or yoga.
A17: 7 | B17: I enjoy exercise and stretching.
A18: 8 | B18: I drink about 1,5 liters of water a day.
A19: 9 | B19: I don't smoke and rarely drink alcohol.
A20: 10 | B20: I have no addictions to alcohol, smoking, drugs.
B21: Unit 2: Mental health | C21: =(SUM(C22:C31)/10) -> 0 | D21: =(SUM(D22:D31)/10) -> 0
A22: 11 | B22: I love, appreciate and approve of myself. I don't have the habit of scolding and reproaching myself.
A23: 12 | B23: I have a strong will to live. I have a strong desire for something. I have a dream that I want to make come true.
A24: 13 | B24: I am attentive to my desires, I often listen to myself, to my body. I analyze my feelings.
A25: 14 | B25: I often feel grateful for life.
A26: 15 | B26: I am well. My choice is to live and be happy.
A27: 16 | B27: I approve and encourage myself. I accept myself for who I am. I strive for development and creativity.
A28: 17 | B28: I got rid of guilt, criticism and self-judgment. I realized that I was doing my best at the level of awareness I had.
A29: 18 | B29: I am calm and confident. I believe in myself. I can deal with fears.
A30: 19 | B30: I know how to act, to bring my plans to life. I prefer to do concrete action to achieve my goals.
A31: 20 | B31: I am open, optimistic, I have a positive outlook on life. I don't suffer from depression.
B32: Block 3: Soul health | C32: =(SUM(C33:C42)/10) -> 0 | D32: =(SUM(D33:D42)/10) -> 0
A33: 21 | B33: I feel needed in this world. My life is of great value.
A34: 22 | B34: I know exactly who I am. I am aware of my life purpose, vocation, profession, mission.
A35: 23 | B35: My life is an interesting adventure.
A36: 24 | B36: I forgive and let go of people and situations. I often look at situations, people and myself from the outside.
A37: 25 | B37: I love, respect and appreciate people. I often admire other people.
A38: 26 | B38: People respect and appreciate me. They listen to my opinion.
A39: 27 | B39: My environment is safe, people are friendly to me. People are always ready to help me, I just have to ask. I feel protected.
A40: 28 | B40: My intentions and thoughts are pure. I can influence situations. I do it for the benefit of myself, people around and organizations where I work.
...

Sheet Conflicts
B1: Test "My style of behavior in conflict"
B2: Filling instructions
B3: For each behavior and thinking pattern, put a number from 1 to 5, depending on how often this behavior or thought occurs:
B4: 1 - I never behave like this
B5: 2 - Sometimes I behave like this
B6: 3 - I act like this half the time
B7: 4 - I behave like this very often
B8: 5 - I always behave like this
B9: The pattern of behavior may differ if you analyze your behavior towards different groups of people. That is, the style of behavior in conflicts with the boss may be one, and the style of behavior in conflict with colleagues may be different. For this test, please answer the questions based on your behavior in conflicts with colleagues.
A11: № | B11: Questions | C11: Assessment before | D11: Assessment after
B12: Block 1: Strength | C12: =(SUM(C13:C17)/5) -> 0 | D12: =(SUM(D13:D17)/5) -> 0
A13: 1 | B13: In a conflict, I do not make concessions. It is important for me to defend my point of view, because I am right.
A14: 2 | B14: In disputes, I always strive to win. I see the situation better than others and know the solution.
A15: 3 | B15: I will never refuse a good reason and argument, even if it may be unpleasant for the opponent.
A16: 4 | B16: I definitely prefer winning an argument over a compromise.
A17: 5 | B17: I openly criticize my opponent in front of everyone and use his weaknesses.
B18: Block 2: Collaboration | C18: =SUM(C19:C23)/5 -> 0 | D18: =SUM(D19:D23)/5 -> 0
A19: 6 | B19: I can convey my opinion to others. I describe the situation in a neutral way, offer solutions, explain what will happen if the decision is not made. I try to bring the partner to the optimal solution, I strive for him to express it himself.
A20: 7 | B20: I study the existing differences, I know how to put myself in the place of the opponent, I listen to his arguments. I understand well the motive of others and I am looking for a solution that is convenient for both.
A21: 8 | B21: I don't let myself be passed over when making a decision. I openly express my disagreement, then discuss the differences. I do not deviate from my opinion, but I do not impose it either.
A22: 9 | B22: I know how to defend my position and put my opponent in his place if he goes over the line.
A23: 10 | B23: I see people without illusions, just the way they are. But I know how to forgive and always give a second chance for cooperation.
B24: Block 3: Weakness | C24: =SUM(C25:C29)/5 -> 0 | D24: =SUM(D25:D29)/5 -> 0
A25: 11 | B25: I have a reputation for being compliant. I would rather agree with my opponent than start arguing with him.
A26: 12 | B26: I will give in rather than try to change my opponent's mind.
A27: 13 | B27: When discussing the situation, I avoid discussing any controversial aspects of it.
A28: 14 | B28: I would rather agree to a partially satisfactory solution than try to get my way.
A29: 15 | B29: I give in as soon as my opponent's emotions start to boil over.
B30: Block 4: Evasion | C30: =SUM(C31:C35)/5 -> 0 | D30: =SUM(D31:D35)/5 -> 0
A31: 16 | B31: I avoid communication with a person until the conflict with him is resolved.
A32: 17 | B32: It is better for both sides of the conflict to lose than to run the risk of emotional confrontation.
A33: 18 | B33: It seems to me that most of the disagreements do not make sense. It's pointless to prove anything.
A34: 19 | B34: I would rather admit that I was partially wrong than go into detail about the differences.
A35: 20 | B35: I try to postpone the discussion of the conflict situation until I understand it thoroughly.

Sheet Results
A1: Areas of life | B1: Assessment before | C1: Assessment after
A2: Block 1: Physical health | B2: ='Self-assessment'!C10 -> 0 | C2: ='Self-assessment'!D10 -> 0
A3: Block 2: Mental health | B3: ='Self-assessment'!C21 -> 0 | C3: ='Self-assessment'!D21 -> 0
A4: Block 3: Mental health | B4: ='Self-assessment'!C32 -> 0 | C4: ='Self-assessment'!D32 -> 0
A5: Block 4: Knowledge and Experience | B5: ='Self-assessment'!C43 -> 0 | C5: ='Self-assessment'!D43 -> 0
A6: Block 5: Connections and Relationships | B6: ='Self-assessment'!C54 -> 0 | C6: ='Self-assessment'!D54 -> 0
A7: Block 6: Family and Love | B7: ='Self-assessment'!C65 -> 0 | C7: ='Self-assessment'!D65 -> 0
A8: Block 7: Finance | B8: ='Self-assessment'!C76 -> 0 | C8: ='Self-assessment'!D76 -> 0
A9: Block 8: Style of behavior | B9: ='Self-assessment'!C87 -> 0 | C9: ='Self-assessment'!D87 -> 0
A28: Behavior in conflict | B28: Assessment before | C28: Assessment after
A29: Block 1: Strength | B29: =Conflicts!C12 -> 0 | C29: =Conflicts!D12 -> 0
A30: Block 2: Collaboration | B30: =Conflicts!C18 -> 0 | C30: =Conflicts!D18 -> 0
A31: Block 3: Weakness | B31: =Conflicts!C24 -> 0 | C31: =Conflicts!D24 -> 0
A32: Block 4: Evasion | B32: =Conflicts!C30 -> 0 | C32: =Conflicts!D30 -> 0
